BEGIN:VCALENDAR
VERSION:2.0
PRODID:-//Robyn Booker - ECPv4.9.7//NONSGML v1.0//EN
CALSCALE:GREGORIAN
METHOD:PUBLISH
X-WR-CALNAME:Robyn Booker
X-ORIGINAL-URL:https://robynbooker.com
X-WR-CALDESC:Events for Robyn Booker
BEGIN:VTIMEZONE
TZID:"UTC"
BEGIN:STANDARD
TZOFFSETFROM:+0000
TZOFFSETTO:+0000
TZNAME:UTC
DTSTART:20220101T000000
END:STANDARD
END:VTIMEZONE
BEGIN:VEVENT
DTSTART;TZID="UTC":20220808T120000
DTEND;TZID="UTC":20220808T160000
DTSTAMP:20260425T213147
CREATED:20220728T190756Z
LAST-MODIFIED:20220728T190756Z
UID:1694-1659960000-1659974400@robynbooker.com
SUMMARY:Tape Extensions Course
DESCRIPTION:Join us Monday August 8th for our signature Tape Extensions Course. \n$499 in Total\, $249 Deposit can be paid via Zelle or Apple Pay \nZelle: rbstyles80@me.com \nApple Pay: (815)685-0370 \nWhat You’ll Learn: \n\nPrepping and sanitization\nTape In Methods\nProper Sectioning\nSafe Removal\nBlending techniques\nPricing & Scheduling\nSocial Media & More!\n\nWhats Included: \n\nNotebook\nLook & Learn\nHandbook\nBusiness Start Up tips\nLive Demo By Instructor\nMarkerting Tips\nCertification\nLunch Will Be Provided\n\n
URL:https://robynbooker.com/event/tape-extensions-course
LOCATION:The Hair Cafe\, 2430 Plainfield Rd. Unit#2B\, Crest Hill\, IL\, 60403\, United States
CATEGORIES:LIve Training
ATTACH;FMTTYPE=image/jpeg:https://robynbooker.com/wp-content/uploads/2022/07/IMG_4998.jpg
END:VEVENT
END:VCALENDAR